BEGIN:VCALENDAR
PRODID:-//github.com/rianjs/ical.net//NONSGML ical.net 4.0//EN
VERSION:2.0
BEGIN:VEVENT
DESCRIPTION:Auf meist ruhigen Wegen fahren wir zur Selbstpflücke von Beere
 n\, Sauerkirschen und Pflaumen. Es darf genascht werden. Nur gesammeltes 
 Obst wird bezahlt. Bitte Gefäße mitbringen. Ende  S-Heinersdorf.\nhttps:/
 /touren-termine.adfc.de/radveranstaltung/24699-achtung-selbstpflucke-hat-
 geschlossen
DTEND:20230902T150000Z
DTSTAMP:20260424T203628Z
DTSTART:20230902T070000Z
LOCATION:S-Bhf. Pankow-Heinersdorf\, Ausgang Pasewalker Straße\, 13187 Ber
 lin
SEQUENCE:0
SUMMARY:ACHTUNG! SELBSTPFLÜCKE HAT GESCHLOSSEN!
UID:977fef80-a03d-4055-958c-0ce5d8abf279
URL:https://touren-termine.adfc.de/radveranstaltung/24699-achtung-selbstpf
 lucke-hat-geschlossen
END:VEVENT
END:VCALENDAR
