BEGIN:VCALENDAR
PRODID:-//github.com/rianjs/ical.net//NONSGML ical.net 4.0//EN
VERSION:2.0
BEGIN:VEVENT
DESCRIPTION:Treffen der AG Verkehr des ADFC Bochum\nhttps://touren-termine
 .adfc.de/radveranstaltung/152902-ag-verkehr
DTEND:20250703T183000Z
DTSTAMP:20260420T150300Z
DTSTART:20250703T163000Z
LOCATION:Alsenstraße 27\, 44789 Bochum
SEQUENCE:0
SUMMARY:AG Verkehr
UID:29961267-351a-4e81-8f19-5f5fd24cc162
URL:https://touren-termine.adfc.de/radveranstaltung/152902-ag-verkehr
END:VEVENT
END:VCALENDAR
