BEGIN:VCALENDAR
PRODID:-//github.com/rianjs/ical.net//NONSGML ical.net 4.0//EN
VERSION:2.0
BEGIN:VEVENT
DESCRIPTION:Der Bezirksrat des ADFC Berlin e.V.  ist ein Gremium zur Koord
 inierung für die Tätigkeit der Stadtteilgruppen.\nhttps://touren-termine.
 adfc.de/radveranstaltung/189747-bezirksratssitzung
DTEND:20260423T190000Z
DTSTAMP:20260424T173128Z
DTSTART:20260423T170000Z
LOCATION:Senatsverwaltung für Mobilität\, Verkehr\, Klimaschutz und Umwelt
 \, Am Köllnischen Park 3\, 10179 Berlin
SEQUENCE:0
SUMMARY:Bezirksratssitzung
UID:5e2954f1-eb70-4a87-aeec-58a70899dac8
URL:https://touren-termine.adfc.de/radveranstaltung/189747-bezirksratssitz
 ung
END:VEVENT
END:VCALENDAR
