BEGIN:VCALENDAR
PRODID:-//github.com/rianjs/ical.net//NONSGML ical.net 4.0//EN
VERSION:2.0
BEGIN:VEVENT
DESCRIPTION:Codierung von Rädern schreckt Diebe ab und bringt wiedergefund
 ene Räder zurück. Bitte Personalausweis\, Fahrrad und (möglichst) Eigentu
 msnachweis mitbringen (ggf. auch ADFC Ausweis).\nhttps://touren-termine.a
 dfc.de/radveranstaltung/198219-fahrraddiebstahlschutz-durch-codierung
DTEND:20260418T100000Z
DTSTAMP:20260419T162938Z
DTSTART:20260418T070000Z
LOCATION:Radl Meier Aiblinger Straße 17c\, 83043 Bad Aibling
SEQUENCE:0
SUMMARY:Fahrrad-Diebstahlschutz durch Codierung
UID:ac8375f1-e02f-47b0-a413-80ac4fbdfa52
URL:https://touren-termine.adfc.de/radveranstaltung/198219-fahrraddiebstah
 lschutz-durch-codierung
END:VEVENT
END:VCALENDAR
