BEGIN:VCALENDAR
PRODID:-//github.com/rianjs/ical.net//NONSGML ical.net 4.0//EN
VERSION:2.0
BEGIN:VEVENT
DESCRIPTION:Der Naturkindergarten Hahnheimer Knöpfe lädt alle Betroffenen 
 und Interessierten zu einer öffentlichen Raddemo am Samstag\, den 22.06.2
 024 für die Rechte und die Sicherheit der Kinder ein\nhttps://touren-term
 ine.adfc.de/radveranstaltung/135239-fahrraddemo-in-hahnheim
DTEND:20240622T110000Z
DTSTAMP:20260421T155034Z
DTSTART:20240622T073000Z
LOCATION:Obere Hauptstraße 3\, 55278 Landkreis Mainz-Bingen
SEQUENCE:0
SUMMARY:Fahrraddemo in Hahnheim
UID:a7b3c0d5-1988-4e95-8c83-ed9c343b348e
URL:https://touren-termine.adfc.de/radveranstaltung/135239-fahrraddemo-in-
 hahnheim
END:VEVENT
END:VCALENDAR
