BEGIN:VCALENDAR
PRODID:-//github.com/rianjs/ical.net//NONSGML ical.net 4.0//EN
VERSION:2.0
BEGIN:VEVENT
DESCRIPTION:Vom Jakobsplatz\, dem gemeinsamen Startort zum Saisonauftakt f
 ahren wir Richtung Norden ein Stück weit in das Knoblauchsland und dann R
 ichtung Heroldstraße zum Tag der Offenen Tür beim ADFC\nhttps://touren-te
 rmine.adfc.de/radveranstaltung/157240-eroffnungstour-in-den-norden
DTEND:20250405T133000Z
DTSTAMP:20260425T171357Z
DTSTART:20250405T110000Z
LOCATION:Jakobsplatz\, 90403 Nürnberg
SEQUENCE:0
SUMMARY:Eröffnungstour: In den Norden
UID:82f027c9-1c89-4a10-a413-ac0621690598
URL:https://touren-termine.adfc.de/radveranstaltung/157240-eroffnungstour-
 in-den-norden
END:VEVENT
END:VCALENDAR
