BEGIN:VCALENDAR
PRODID:-//github.com/rianjs/ical.net//NONSGML ical.net 4.0//EN
VERSION:2.0
BEGIN:VEVENT
DESCRIPTION:Unsere Geschäftsstelle ist für alle Anliegen und offenen Frage
 n geöffnet.\nhttps://touren-termine.adfc.de/radveranstaltung/147973-offnu
 ngszeit-unserer-geschaftsstelle
DTEND:20250613T160000Z
DTSTAMP:20260421T121302Z
DTSTART:20250613T140000Z
LOCATION:Essen (Innenstadt)\, ADFC Essen Geschäftsstelle\, Rottstraße 5\, 
 45127 Essen
SEQUENCE:0
SUMMARY:Öffnungszeit unserer Geschäftsstelle
UID:119e3e21-45e3-41dc-a4f0-1897afee0831
URL:https://touren-termine.adfc.de/radveranstaltung/147973-offnungszeit-un
 serer-geschaftsstelle
END:VEVENT
END:VCALENDAR
