BEGIN:VCALENDAR
PRODID:-//github.com/rianjs/ical.net//NONSGML ical.net 4.0//EN
VERSION:2.0
BEGIN:VEVENT
DESCRIPTION:Besuch der Bioland Gärtnerei & Naturkostladen Blattlaus in Leu
 n\nhttps://touren-termine.adfc.de/radveranstaltung/140531-hofe-erfahren
DTEND:20250506T140000Z
DTSTAMP:20260424T170535Z
DTSTART:20250506T080000Z
LOCATION:Marktplatz\, 35745 Herborn
SEQUENCE:0
SUMMARY:Höfe erfahren
UID:c277c91e-f9cc-4382-8237-fdb8ec14fed6
URL:https://touren-termine.adfc.de/radveranstaltung/140531-hofe-erfahren
END:VEVENT
END:VCALENDAR
