BEGIN:VCALENDAR
PRODID:-//github.com/rianjs/ical.net//NONSGML ical.net 4.0//EN
VERSION:2.0
BEGIN:VEVENT
DESCRIPTION:52 km -15-18km/h - Bhf.Heinersdorf - Marion Rösch. Selbstpflüc
 ke von Erd- und Heidelbeeren. Bitte Gefäße mitbringen. Rückfahrt mit der 
 Bahn ab Bernau möglich.\nhttps://touren-termine.adfc.de/radveranstaltung/
 74289-erdbeertour
DTEND:20230701T150000Z
DTSTAMP:20260424T202248Z
DTSTART:20230701T070000Z
LOCATION:S-Bhf. Pankow-Heinersdorf\, Ausgang Pasewalker Straße\, 13189 Ber
 lin
SEQUENCE:0
SUMMARY:Erdbeertour
UID:32d9a70e-c559-4aae-a141-7acd5d853730
URL:https://touren-termine.adfc.de/radveranstaltung/74289-erdbeertour
END:VEVENT
END:VCALENDAR
