BEGIN:VCALENDAR
PRODID:-//github.com/rianjs/ical.net//NONSGML ical.net 4.0//EN
VERSION:2.0
BEGIN:VEVENT
DESCRIPTION:Mit dem Pedelec 70 km und 1000 hm über Rehringhausen\, das Vei
 schedetal nach Kickenbach. Einkehr in Heimnemanns Hofcafé. Anmeldung bis 
 30.04.25 20.00\, Teilnehmerzahl begrenzt.\nhttps://touren-termine.adfc.de
 /radveranstaltung/164440-tagestour-pedelec-heinemanns-hofcafe
DTEND:20250501T153000Z
DTSTAMP:20260422T234320Z
DTSTART:20250501T080000Z
LOCATION:Marburgerstraße\, Roter Platz\, 57223 Kreuztal
SEQUENCE:0
SUMMARY:Tagestour Pedelec Heinemann's Hofcafe
UID:dd703eef-9b8d-4d7b-8763-032a57786a35
URL:https://touren-termine.adfc.de/radveranstaltung/164440-tagestour-pedel
 ec-heinemanns-hofcafe
END:VEVENT
END:VCALENDAR
