BEGIN:VCALENDAR
PRODID:-//github.com/rianjs/ical.net//NONSGML ical.net 4.0//EN
VERSION:2.0
BEGIN:VEVENT
DESCRIPTION:Auf ruhigen Wegen durch die Rehberge zum Flughafensee und zum 
 Tegeler See. Am Nordgraben\, dem Mauer- und Pankeweg zurück in den Weddin
 g.\nhttps://touren-termine.adfc.de/radveranstaltung/74766-berlin-neu-entd
 ecken-2-tegeler-see
DTEND:20260321T150000Z
DTSTAMP:20260424T112525Z
DTSTART:20260321T100000Z
LOCATION:S-/U-Bhf. Wedding\, Ausgang Müllerstraße\, 13353 Berlin
SEQUENCE:0
SUMMARY:Berlin - neu entdecken 2 - Tegeler See
UID:a42eb9bd-c3c6-4df2-9443-889686e4014f
URL:https://touren-termine.adfc.de/radveranstaltung/74766-berlin-neu-entde
 cken-2-tegeler-see
END:VEVENT
END:VCALENDAR
