BEGIN:VCALENDAR
PRODID:-//github.com/rianjs/ical.net//NONSGML ical.net 4.0//EN
VERSION:2.0
BEGIN:VEVENT
DESCRIPTION:Die Tour führt über gut befahrbare Wald-und ausgebaute Radwege
  und wir besuchen das Dorf und Gut Hobrechtsfelde.\nhttps://touren-termin
 e.adfc.de/radveranstaltung/105476-von-wandlitz-nach-hobrechtsfelde
DTEND:20230909T140000Z
DTSTAMP:20260425T014536Z
DTSTART:20230909T090000Z
LOCATION:Bahnhofsvorplatz Wandlitzsee\, 16348 Wandlitz
SEQUENCE:0
SUMMARY:Von Wandlitz nach Hobrechtsfelde
UID:92d6b6c3-5a20-43a9-a304-622ab9028a72
URL:https://touren-termine.adfc.de/radveranstaltung/105476-von-wandlitz-na
 ch-hobrechtsfelde
END:VEVENT
END:VCALENDAR
