BEGIN:VCALENDAR
PRODID:-//github.com/rianjs/ical.net//NONSGML ical.net 4.0//EN
VERSION:2.0
BEGIN:VEVENT
DESCRIPTION:Wir fahren von Altomünster zum Aichacher Kino und schauen uns 
 den Dokumentarfilm "Das Flüstern der Wälder" an. Nach dem Mittagessen in 
 Blumenthal gehts nach Kleinberghofen zur S-Bahn.\nhttps://touren-termine.
 adfc.de/radveranstaltung/192265-mit-dem-rad-zum-film-das-flustern-der-wal
 der
DTEND:20260322T160000Z
DTSTAMP:20260421T102010Z
DTSTART:20260322T081000Z
LOCATION:S-Bahnhof Altomünster\, 85250 Landkreis Dachau
SEQUENCE:0
SUMMARY:MIT DEM RAD ZUM FILM: Das Flüstern der Wälder
UID:0ac9312c-aabe-45d6-8fbc-10ec3eb76f43
URL:https://touren-termine.adfc.de/radveranstaltung/192265-mit-dem-rad-zum
 -film-das-flustern-der-walder
END:VEVENT
END:VCALENDAR
