BEGIN:VCALENDAR
PRODID:-//github.com/rianjs/ical.net//NONSGML ical.net 4.0//EN
VERSION:2.0
BEGIN:VEVENT
DESCRIPTION:Das ADFC-Aktiventreffen bietet die Möglichkeit gemeinsam über 
 aktuelle Themen zu diskutieren\, Ideen auszutauschen und aktiv an unserer
  Vereinsarbeit teilzuhaben.\nhttps://touren-termine.adfc.de/radveranstalt
 ung/143979-adfcaktiventreffen
DTEND:20250115T200000Z
DTSTAMP:20260424T160437Z
DTSTART:20250115T180000Z
LOCATION:Kunstraum im Hundertwasser-Bahnhof\, Friedensreich-Hundertwasser-
 Platz 1\, 29525 Uelzen
SEQUENCE:0
SUMMARY:ADFC-Aktiventreffen
UID:42caf166-e1d6-454b-9672-4c8fcfa1371d
URL:https://touren-termine.adfc.de/radveranstaltung/143979-adfcaktiventref
 fen
END:VEVENT
END:VCALENDAR
