BEGIN:VCALENDAR
PRODID:-//github.com/rianjs/ical.net//NONSGML ical.net 4.0//EN
VERSION:2.0
BEGIN:VEVENT
DESCRIPTION:Feierabendtour zu Pizza\, Pasta und Salat.\nHeute geht`s zu Pi
 zza und Pasta nach San Remo ….. Nein! \nNicht nach San Remo in Italia\, s
 ondern in`s Ristorante San Remo in Eching\,\nhttps://touren-termine.adfc.
 de/radveranstaltung/124147-pizza-pasta
DTEND:20240703T200000Z
DTSTAMP:20260421T100629Z
DTSTART:20240703T160000Z
LOCATION:Bike & Ride Fahrradparkhaus\, 85221 Dachau
SEQUENCE:0
SUMMARY:Pizza & Pasta
UID:3f2f5ab7-41fd-4846-b687-3517e5d15038
URL:https://touren-termine.adfc.de/radveranstaltung/124147-pizza-pasta
END:VEVENT
END:VCALENDAR
