BEGIN:VCALENDAR
PRODID:-//github.com/rianjs/ical.net//NONSGML ical.net 4.0//EN
VERSION:2.0
BEGIN:VEVENT
DESCRIPTION:offen für interessierte Mitglieder und Gäste\nhttps://touren-t
 ermine.adfc.de/radveranstaltung/183889-offene-vorstandssitzung-des-adfc-e
 ssen
DTEND:20260612T163000Z
DTSTAMP:20260421T101045Z
DTSTART:20260612T153000Z
LOCATION:Essen (Innenstadt)\, ADFC Essen Geschäftsstelle\, Rottstraße 5\, 
 45127 Essen
SEQUENCE:0
SUMMARY:Offene Vorstandssitzung des ADFC Essen
UID:8caf26f6-f552-4947-945c-32d222810c60
URL:https://touren-termine.adfc.de/radveranstaltung/183889-offene-vorstand
 ssitzung-des-adfc-essen
END:VEVENT
END:VCALENDAR
