BEGIN:VCALENDAR
PRODID:-//github.com/rianjs/ical.net//NONSGML ical.net 4.0//EN
VERSION:2.0
BEGIN:VEVENT
DESCRIPTION:Monatlicher Veloplausch im Landkreis Emmendingen und Breisgau-
 Hochschwarzwald. Einfach vorbeikommen!\nhttps://touren-termine.adfc.de/ra
 dveranstaltung/136010-veloplausch-im-landkreis
DTEND:20250108T193000Z
DTSTAMP:20260421T100926Z
DTSTART:20250108T180000Z
LOCATION:Roccafé\, Hauptstraße 134\, 79211 Denzlingen
SEQUENCE:0
SUMMARY:Veloplausch im Landkreis
UID:acdec2e3-ea60-4673-896b-c2551ceeaff5
URL:https://touren-termine.adfc.de/radveranstaltung/136010-veloplausch-im-
 landkreis
END:VEVENT
END:VCALENDAR
