BEGIN:VCALENDAR
PRODID:-//github.com/rianjs/ical.net//NONSGML ical.net 4.0//EN
VERSION:2.0
BEGIN:VEVENT
DESCRIPTION:Monatliches Treffen aller Radverkehrs Interessenten\nhttps://t
 ouren-termine.adfc.de/radveranstaltung/114560-offentlicher-radlertreff
DTEND:20240326T200000Z
DTSTAMP:20260423T183545Z
DTSTART:20240326T180000Z
LOCATION:Gartenstraße 10\, 30938 Burgwedel
SEQUENCE:0
SUMMARY:Öffentlicher Radlertreff
UID:912c3b14-f4ac-468c-a9b1-9e06b3638042
URL:https://touren-termine.adfc.de/radveranstaltung/114560-offentlicher-ra
 dlertreff
END:VEVENT
END:VCALENDAR
