BEGIN:VCALENDAR
PRODID:-//github.com/rianjs/ical.net//NONSGML ical.net 4.0//EN
VERSION:2.0
BEGIN:VEVENT
DESCRIPTION:Wir schottern zum Feierabend um den Öjendorfer Park\nhttps://t
 ouren-termine.adfc.de/radveranstaltung/170109-ojendorf-gravel-suite
DTEND:20250808T180000Z
DTSTAMP:20260420T232218Z
DTSTART:20250808T163000Z
LOCATION:Vor der Kreuzkirche Kedenburgstraße 14\, 22041 Hamburg
SEQUENCE:0
SUMMARY:Öjendorf Gravel Suite
UID:7e4caee2-76e2-4dc2-9125-ba2b712c0cf2
URL:https://touren-termine.adfc.de/radveranstaltung/170109-ojendorf-gravel
 -suite
END:VEVENT
END:VCALENDAR
