BEGIN:VCALENDAR
PRODID:-//github.com/rianjs/ical.net//NONSGML ical.net 4.0//EN
VERSION:2.0
BEGIN:VEVENT
DESCRIPTION:Kolbermoor über Rosenheim den Inn entlang bis zum Waldsee auf 
 Höhe Hochstätt nach Hochstätt. Der Weg zurück nach Kolbermoor führt über 
 Schechen\, Germering\, Minzberg und Kolberg.\nhttps://touren-termine.adfc
 .de/radveranstaltung/198430-kolbermoor-hochstatt-schechen
DTEND:20260426T143000Z
DTSTAMP:20260419T193920Z
DTSTART:20260426T113000Z
LOCATION:Von-Bippen-Straße 21\, 83059 Kolbermoor
SEQUENCE:0
SUMMARY:Kolbermoor - Hochstätt / Schechen
UID:765da784-532b-4b0a-b88e-2805e3e1af54
URL:https://touren-termine.adfc.de/radveranstaltung/198430-kolbermoor-hoch
 statt-schechen
END:VEVENT
END:VCALENDAR
