BEGIN:VCALENDAR
PRODID:-//github.com/rianjs/ical.net//NONSGML ical.net 4.0//EN
VERSION:2.0
BEGIN:VEVENT
DESCRIPTION:Radtour zum Europäischen Tag des Fahrrads\, gleichzeitig Weltf
 ahrradtag.\nhttps://touren-termine.adfc.de/radveranstaltung/190850-europa
 platz-und-tippelsberg
DTEND:20260603T160000Z
DTSTAMP:20260421T190541Z
DTSTART:20260603T120000Z
LOCATION:Parkplatz Holschentor\, Talstraße 8\, 45525 Hattingen
SEQUENCE:0
SUMMARY:Europaplatz und Tippelsberg
UID:400e43c2-88cc-4894-913b-02f2b3467a40
URL:https://touren-termine.adfc.de/radveranstaltung/190850-europaplatz-und
 -tippelsberg
END:VEVENT
END:VCALENDAR
