BEGIN:VCALENDAR
PRODID:-//github.com/rianjs/ical.net//NONSGML ical.net 4.0//EN
VERSION:2.0
BEGIN:VEVENT
DESCRIPTION:Jeden Montag findet morgens eine Radtour statt.\nhttps://toure
 n-termine.adfc.de/radveranstaltung/141846-montag-morgen-tour
DTEND:20241111T110000Z
DTSTAMP:20260423T201107Z
DTSTART:20241111T090000Z
LOCATION:In der Ahe 29\, 27356 Rotenburg
SEQUENCE:0
SUMMARY:Montag Morgen Tour
UID:3c24f87a-44e6-4ea5-9ffe-6c3c909d1053
URL:https://touren-termine.adfc.de/radveranstaltung/141846-montag-morgen-t
 our
END:VEVENT
END:VCALENDAR
