BEGIN:VCALENDAR
PRODID:-//github.com/rianjs/ical.net//NONSGML ical.net 4.0//EN
VERSION:2.0
BEGIN:VEVENT
DESCRIPTION:Infoveranstaltung rund um das Thema Fahrrad/ E-Bike (Pedelec) 
 und Verkehrssicherheit mit diversen Vorträgen sowie einem Infostand des A
 DFC Kaufbeuren-Ostallgäu mit Fahrradcodierung (Diebstahlschutz)\nhttps://
 touren-termine.adfc.de/radveranstaltung/92744-seniorentag-in-kaufbeuren-i
 nfostand-codierung
DTEND:20230606T150000Z
DTSTAMP:20260419T193156Z
DTSTART:20230606T120000Z
LOCATION:Tänzelfestplatz\, 87600 Kaufbeuren
SEQUENCE:0
SUMMARY:Seniorentag in Kaufbeuren - Infostand + Codierung
UID:b7c2e0b3-69bd-49aa-8781-97ed085d3315
URL:https://touren-termine.adfc.de/radveranstaltung/92744-seniorentag-in-k
 aufbeuren-infostand-codierung
END:VEVENT
END:VCALENDAR
