BEGIN:VCALENDAR
PRODID:-//github.com/rianjs/ical.net//NONSGML ical.net 4.0//EN
VERSION:2.0
BEGIN:VEVENT
DESCRIPTION:Mit dem Pedelec auf überwiegend autofreien Wegen nach Köln\, D
 üsseldorf\, Duisburg\, Oberhausen\, Essen\, Hattingen\, Wuppertal\, Werme
 lskirchen und Marienheide. Viele Bahnradwege. Anmeldung bis 21.04. 10.00\
 nhttps://touren-termine.adfc.de/radveranstaltung/179877-stadteradeln-nrw-
 pedelectour-5-tage
DTEND:20260531T140000Z
DTSTAMP:20260422T234321Z
DTSTART:20260527T070000Z
LOCATION:Marburgerstraße\, Roter Platz\, 57223 Kreuztal
SEQUENCE:0
SUMMARY:Städteradeln NRW (Pedelectour 5 Tage)
UID:fb5f0ef8-b3b5-4aa0-a52a-4380cef8dd6f
URL:https://touren-termine.adfc.de/radveranstaltung/179877-stadteradeln-nr
 w-pedelectour-5-tage
END:VEVENT
END:VCALENDAR
