BEGIN:VCALENDAR
PRODID:-//github.com/rianjs/ical.net//NONSGML ical.net 4.0//EN
VERSION:2.0
BEGIN:VEVENT
DESCRIPTION:Gosberg\, Kuhnreuth\, Weingarts\, Mittelehrenbach und Kirchehr
 enbach liegen auf unserer Radrunde\, auf der wir die Osterbrunnen bewunde
 rn können.\nhttps://touren-termine.adfc.de/radveranstaltung/179258-osterb
 runnentour
DTEND:20260403T150000Z
DTSTAMP:20260421T102906Z
DTSTART:20260403T083000Z
LOCATION:Nürnberger Tor\, 91301 Forchheim
SEQUENCE:0
SUMMARY:Osterbrunnentour
UID:56ee6fe9-a9ac-4f72-9fe3-6e942ceee84c
URL:https://touren-termine.adfc.de/radveranstaltung/179258-osterbrunnentour
END:VEVENT
END:VCALENDAR
