BEGIN:VCALENDAR
PRODID:-//github.com/rianjs/ical.net//NONSGML ical.net 4.0//EN
VERSION:2.0
BEGIN:VEVENT
DESCRIPTION:Fahrraddemo am 17.10.2025 für sichere Hauptverkehrsstraßen: Fe
 hlende Radwege\, gefährliche Kreuzungen und eine Verkehrspolitik\, die de
 n Autoverkehr priorisiert\, sind kein Naturgesetz!\nhttps://touren-termin
 e.adfc.de/radveranstaltung/172179-demo-schluss-mit-horrorstrassen
DTEND:20251017T183000Z
DTSTAMP:20260424T050301Z
DTSTART:20251017T150000Z
LOCATION:Fehrbelliner Platz\, 10707 Berlin
SEQUENCE:0
SUMMARY:Demo - Schluss mit Horrorstraßen
UID:6d2f1c14-a7e1-4307-ad13-b608aca674eb
URL:https://touren-termine.adfc.de/radveranstaltung/172179-demo-schluss-mi
 t-horrorstrassen
END:VEVENT
END:VCALENDAR
