BEGIN:VCALENDAR
PRODID:-//github.com/rianjs/ical.net//NONSGML ical.net 4.0//EN
VERSION:2.0
BEGIN:VEVENT
DESCRIPTION:In Kaufbeuren! Mit komoot lassen sich Radtouren einfach und ko
 mfortabel planen. Workshop für Laptop + Android-Smartphone.\nAnmeldeschlu
 ss: Mo 08.01.2024 / Ausgebucht\, Warteliste möglich\nhttps://touren-termi
 ne.adfc.de/radveranstaltung/114837-fahrradnavigation-mit-komoot-grundkurs
 -in-kf
DTEND:20240208T200000Z
DTSTAMP:20260419T160651Z
DTSTART:20240208T170000Z
LOCATION:Buronstraße\, 87600 Kaufbeuren
SEQUENCE:0
SUMMARY:Fahrradnavigation mit Komoot - Grundkurs in KF
UID:b3a330ce-91ad-4937-b110-e478c1896d30
URL:https://touren-termine.adfc.de/radveranstaltung/114837-fahrradnavigati
 on-mit-komoot-grundkurs-in-kf
END:VEVENT
END:VCALENDAR
