BEGIN:VCALENDAR
PRODID:-//github.com/rianjs/ical.net//NONSGML ical.net 4.0//EN
VERSION:2.0
BEGIN:VEVENT
DESCRIPTION:Wir werden weitgehend auf ruhigen Landstraßen die schönsten St
 recken und Aussichten Rheinhessens entdecken.\nhttps://touren-termine.adf
 c.de/radveranstaltung/185546-aussichtsreiches-rheinhessen
DTEND:20260802T160000Z
DTSTAMP:20260421T154939Z
DTSTART:20260802T080000Z
LOCATION:Malakoff-Terrasse\, 55116 Mainz
SEQUENCE:0
SUMMARY:Aussichtsreiches Rheinhessen
UID:8d89824b-2fb5-48c8-a92e-9b8a0b84ca4c
URL:https://touren-termine.adfc.de/radveranstaltung/185546-aussichtsreiche
 s-rheinhessen
END:VEVENT
END:VCALENDAR
