BEGIN:VCALENDAR
PRODID:-//github.com/rianjs/ical.net//NONSGML ical.net 4.0//EN
VERSION:2.0
BEGIN:VEVENT
DESCRIPTION:Ca. 40 km in 2 Stunden mit Pause(n). Treffpunkt immer an der F
 ansteinraute Borussia-Park\, 18:00 Uhr\, jeden Mittwoch von April bis Sep
 tember.\nhttps://touren-termine.adfc.de/radveranstaltung/160811-adfcafter
 worksporttour-2025
DTEND:20250903T180000Z
DTSTAMP:20260421T230511Z
DTSTART:20250903T160000Z
LOCATION:Fan-Raute am Borussia Park\, 41179 Mönchengladbach
SEQUENCE:0
SUMMARY:ADFC-Afterwork-Sporttour 2025
UID:2cdbe895-fb8a-4c27-bfd7-388a7fa30d7b
URL:https://touren-termine.adfc.de/radveranstaltung/160811-adfcafterworksp
 orttour-2025
END:VEVENT
END:VCALENDAR
