BEGIN:VCALENDAR
PRODID:-//github.com/rianjs/ical.net//NONSGML ical.net 4.0//EN
VERSION:2.0
BEGIN:VEVENT
DESCRIPTION:Wir radeln von Stadthagen über Achum\, Petzen\, Meissen\, Haus
 berge nach Bad  Oeynhausen zur Saline. Ab Dehme geht es auf dem Weserradw
 eg über Barkhausen\, Minden \, Cammer und Rusbend zurück .\nhttps://toure
 n-termine.adfc.de/radveranstaltung/178530-gradierwerk-bad-oeynhausen
DTEND:20260621T150000Z
DTSTAMP:20260420T174904Z
DTSTART:20260621T080000Z
LOCATION:Marktplatz \,Marktbrunnen\, 31655 Stadthagen
SEQUENCE:0
SUMMARY:Gradierwerk Bad Oeynhausen
UID:7365595b-4ea3-402e-8d48-388413dccace
URL:https://touren-termine.adfc.de/radveranstaltung/178530-gradierwerk-bad
 -oeynhausen
END:VEVENT
END:VCALENDAR
