BEGIN:VCALENDAR
PRODID:-//github.com/rianjs/ical.net//NONSGML ical.net 4.0//EN
VERSION:2.0
BEGIN:VEVENT
DESCRIPTION:Mitglieder hören Berichte aus Arbeitsgruppen\, besprechen weit
 ere Vorgehen und Aktivitäten\, tauschen Ideen aus – informativ\, zielorie
 ntiert und verbindend!\nhttps://touren-termine.adfc.de/radveranstaltung/1
 91762-adfc-aktiventreff
DTEND:20260521T183000Z
DTSTAMP:20260420T150300Z
DTSTART:20260521T163000Z
LOCATION:Alsenstraße 27\, 44789 Bochum
SEQUENCE:0
SUMMARY:ADFC Aktiventreff
UID:2cfee763-6ccf-4e62-9be6-41b49593d5ed
URL:https://touren-termine.adfc.de/radveranstaltung/191762-adfc-aktiventre
 ff
END:VEVENT
END:VCALENDAR
