BEGIN:VCALENDAR
PRODID:-//github.com/rianjs/ical.net//NONSGML ical.net 4.0//EN
VERSION:2.0
BEGIN:VEVENT
DESCRIPTION:Wir folgen dem von Kurfürst Max Emanuel angelegten Kanalsystem
  zwischen Schloss Nymphenburg und Schloss Schleißheim. Anfahrt mit S-Bahn
 : Abfahrt Gilching 09:03\, Ankunft Pasing 09:22\, Start 09:30.\nhttps://t
 ouren-termine.adfc.de/radveranstaltung/89231-max-emanuel-kanale
DTEND:20230910T160000Z
DTSTAMP:20260425T150056Z
DTSTART:20230910T073000Z
LOCATION:August-Exter-Straße\, 81245 München
SEQUENCE:0
SUMMARY:Max Emanuel Kanäle
UID:b799b56f-fee0-44d0-beec-d6368d47fa8a
URL:https://touren-termine.adfc.de/radveranstaltung/89231-max-emanuel-kana
 le
END:VEVENT
END:VCALENDAR
