BEGIN:VCALENDAR
PRODID:-//github.com/rianjs/ical.net//NONSGML ical.net 4.0//EN
VERSION:2.0
BEGIN:VEVENT
DESCRIPTION:In gemütlicher Runde plaudern Radfahrbegeisterte über Touren\,
  Technik\, Verkehr usw.. Gäste sind herzlich eingeladen.\nhttps://touren-
 termine.adfc.de/radveranstaltung/171598-monatliches-treffen-15-okt-thaers
 -wirtshaus
DTEND:20251015T193000Z
DTSTAMP:20260421T184822Z
DTSTART:20251015T163000Z
LOCATION:Thaerplatz 1\, 29221 Celle
SEQUENCE:0
SUMMARY:Monatliches Treffen\, 15. Okt.   (Thaers Wirtshaus)
UID:d6550788-9b06-4ac0-8680-ce1dcbf5df55
URL:https://touren-termine.adfc.de/radveranstaltung/171598-monatliches-tre
 ffen-15-okt-thaers-wirtshaus
END:VEVENT
END:VCALENDAR
