BEGIN:VCALENDAR
PRODID:-//github.com/rianjs/ical.net//NONSGML ical.net 4.0//EN
VERSION:2.0
BEGIN:VEVENT
DESCRIPTION:Die Jahreshaupversammlung gibt einen Rückblick auf 2024 und de
 r Planungen für die neue Saison. Hierzu sind nicht nur die Mitglieder des
  Kreisverbands eingeladen\, sondern auch interessierte Gäste.\nhttps://to
 uren-termine.adfc.de/radveranstaltung/140906-jahreshauptversammlung-adfc-
 regensburg-2025
DTEND:20250128T205500Z
DTSTAMP:20260422T083634Z
DTSTART:20250128T183000Z
LOCATION:Gemeindehaus St.Markus\, Killermannstraße 56 a\, 93049 Regensburg
SEQUENCE:0
SUMMARY:Jahreshauptversammlung ADFC Regensburg 2025
UID:376bb3e9-5b1b-4c35-920b-ff9d812189b4
URL:https://touren-termine.adfc.de/radveranstaltung/140906-jahreshauptvers
 ammlung-adfc-regensburg-2025
END:VEVENT
END:VCALENDAR
