BEGIN:VCALENDAR
PRODID:-//github.com/rianjs/ical.net//NONSGML ical.net 4.0//EN
VERSION:2.0
BEGIN:VEVENT
DESCRIPTION:Wir fahren nach Opladen und von dort über die Balkantrasse zum
  Skulpturenpark SinnesWald. Die Rückfahrt erfolgt über die Diepentalsperr
 e\, Leichlingen und Aufderhöhe.\nhttps://touren-termine.adfc.de/radverans
 taltung/130010-skulpturenpark-sinneswald-und-diepentalsperre
DTEND:20240526T150000Z
DTSTAMP:20260421T210844Z
DTSTART:20240526T080000Z
LOCATION:Bahnstraße\, 42697 Solingen
SEQUENCE:0
SUMMARY:Skulpturenpark SinnesWald und Diepentalsperre
UID:0f71a30e-80c2-4000-a1b3-ba6887572a31
URL:https://touren-termine.adfc.de/radveranstaltung/130010-skulpturenpark-
 sinneswald-und-diepentalsperre
END:VEVENT
END:VCALENDAR
