BEGIN:VCALENDAR
PRODID:-//github.com/rianjs/ical.net//NONSGML ical.net 4.0//EN
VERSION:2.0
BEGIN:VEVENT
DESCRIPTION:Bei niederschlagsfreiem Wetter geht es über den Kemptener Wald
  nach Görisried und Wald. Dort stärken wir uns in der Walder Käskuche bev
 or es wieder nach Hause geht. Start: 11 Uhr\nhttps://touren-termine.adfc.
 de/radveranstaltung/191031-fahrt-ins-blaue
DTEND;VALUE=DATE:20260430
DTSTAMP:20260425T115323Z
DTSTART;VALUE=DATE:20260430
LOCATION:Bahnhofplatz vor IHK Gebäude\, 87435 Kempten (Allgäu)
SEQUENCE:0
SUMMARY:Fahrt ins Blaue
UID:7962e59c-4fc6-4d63-ae71-46fe293d752f
URL:https://touren-termine.adfc.de/radveranstaltung/191031-fahrt-ins-blaue
END:VEVENT
END:VCALENDAR
