BEGIN:VCALENDAR
PRODID:-//github.com/rianjs/ical.net//NONSGML ical.net 4.0//EN
VERSION:2.0
BEGIN:VEVENT
DESCRIPTION:Wir fahren mit der Bahn nach Freudenstadt\, und von dort mit d
 em Rad den Kinzigtalradweg nach Offenburg\nhttps://touren-termine.adfc.de
 /radveranstaltung/149604-der-kinzigtalradweg
DTEND:20250706T150000Z
DTSTAMP:20260422T231640Z
DTSTART:20250706T064000Z
LOCATION:Bahnhof\, 77652 Offenburg
SEQUENCE:0
SUMMARY:Der Kinzigtal-Radweg
UID:db2da64a-6743-4900-845e-b1078f5ca849
URL:https://touren-termine.adfc.de/radveranstaltung/149604-der-kinzigtalra
 dweg
END:VEVENT
END:VCALENDAR
