BEGIN:VCALENDAR
PRODID:-//github.com/rianjs/ical.net//NONSGML ical.net 4.0//EN
VERSION:2.0
BEGIN:VEVENT
DESCRIPTION:Du willst die Radfahrsituation in Korschenbroich verbessern? D
 ann bist du hier richtig.\nhttps://touren-termine.adfc.de/radveranstaltun
 g/195373-arbeitskreis-mobilitat-und-sicherheit
DTEND:20260521T183000Z
DTSTAMP:20260423T151640Z
DTSTART:20260521T163000Z
LOCATION:Gymnasium Korschenbroich\, Container-Gebäude\, Don-Bosco-Str./Hug
 o-Kamper-Gasse\, 41352 Korschenbroich
SEQUENCE:0
SUMMARY:Arbeitskreis Mobilität und Sicherheit
UID:d898721c-4df4-4c83-9407-5d6482d584d4
URL:https://touren-termine.adfc.de/radveranstaltung/195373-arbeitskreis-mo
 bilitat-und-sicherheit
END:VEVENT
END:VCALENDAR
