BEGIN:VCALENDAR
PRODID:-//github.com/rianjs/ical.net//NONSGML ical.net 4.0//EN
VERSION:2.0
BEGIN:VEVENT
DESCRIPTION:Öffentlicher Stammtisch des ADFC Kempten-Oberallgäu\nhttps://t
 ouren-termine.adfc.de/radveranstaltung/100407-stammtisch-in-martinszell
DTEND:20230615T193000Z
DTSTAMP:20260424T151544Z
DTSTART:20230615T180000Z
LOCATION:IG OMa im Bahnhof Martinszell\, Oberdorfer Bahnhofstraße 7\, 8744
 8 Landkreis Oberallgäu
SEQUENCE:0
SUMMARY:Stammtisch in Martinszell
UID:92bb5978-520d-4f0a-9b2b-79acb853f3fe
URL:https://touren-termine.adfc.de/radveranstaltung/100407-stammtisch-in-m
 artinszell
END:VEVENT
END:VCALENDAR
