BEGIN:VCALENDAR
PRODID:-//github.com/rianjs/ical.net//NONSGML ical.net 4.0//EN
VERSION:2.0
BEGIN:VEVENT
DESCRIPTION:Schöne Tour am Fuß des Nordschwarzwalds\nhttps://touren-termin
 e.adfc.de/radveranstaltung/137294-von-feuerbach-nach-karlsruhedurlach
DTEND:20240921T160000Z
DTSTAMP:20260424T144117Z
DTSTART:20240921T070000Z
LOCATION:Wiener Platz\, 70469 Stuttgart
SEQUENCE:0
SUMMARY:Von Feuerbach nach Karlsruhe-Durlach
UID:9a09349b-1b47-4dfa-856d-df046e85d502
URL:https://touren-termine.adfc.de/radveranstaltung/137294-von-feuerbach-n
 ach-karlsruhedurlach
END:VEVENT
END:VCALENDAR
