BEGIN:VCALENDAR
PRODID:-//github.com/rianjs/ical.net//NONSGML ical.net 4.0//EN
VERSION:2.0
BEGIN:VEVENT
DESCRIPTION:CIAO STAU - Mehr Platz für's Rad!\nhttps://touren-termine.adfc
 .de/radveranstaltung/195443-adfc-fahrradsternfahrt-nrw-nach-dusseldorf
DTEND:20260503T160000Z
DTSTAMP:20260423T151640Z
DTSTART:20260503T093000Z
LOCATION:Matthias-Hoeren-Platz\, 41352 Korschenbroich
SEQUENCE:0
SUMMARY:ADFC Fahrrad-Sternfahrt NRW nach Düsseldorf
UID:3e195432-8d41-48ca-b3d5-4ddb8d264fce
URL:https://touren-termine.adfc.de/radveranstaltung/195443-adfc-fahrradste
 rnfahrt-nrw-nach-dusseldorf
END:VEVENT
END:VCALENDAR
