BEGIN:VCALENDAR
PRODID:-//github.com/rianjs/ical.net//NONSGML ical.net 4.0//EN
VERSION:2.0
BEGIN:VEVENT
DESCRIPTION:Im Rahmen unserer siebten Tour entdecken wir einen weiteren Es
 sener Friedhof.\nhttps://touren-termine.adfc.de/radveranstaltung/183901-e
 ssen-jenseits-die-friedhofe-unserer-stadt-7
DTEND:20260725T160000Z
DTSTAMP:20260421T102057Z
DTSTART:20260725T110000Z
LOCATION:Kopstadtplatz\, 45127 Essen
SEQUENCE:0
SUMMARY:"Essen jenseits" – die Friedhöfe unserer Stadt #7
UID:7c5699ba-8f35-4b8c-8a9e-112490583cb2
URL:https://touren-termine.adfc.de/radveranstaltung/183901-essen-jenseits-
 die-friedhofe-unserer-stadt-7
END:VEVENT
END:VCALENDAR
