BEGIN:VCALENDAR
PRODID:-//github.com/rianjs/ical.net//NONSGML ical.net 4.0//EN
VERSION:2.0
BEGIN:VEVENT
DESCRIPTION:25km lange Rundtour in die südliche Umgebung von Oranienburg z
 um Auftakt der Oranienburger Klimaaktionstage (14.-16.05.2025)\nhttps://t
 ouren-termine.adfc.de/radveranstaltung/164585-feierabendtour
DTEND:20250514T190000Z
DTSTAMP:20260425T231856Z
DTSTART:20250514T160000Z
LOCATION:Schloßplatz\, 16515 Oranienburg
SEQUENCE:0
SUMMARY:Feierabendtour
UID:a6ee3561-81e6-4693-bbf5-2787a3ad3b79
URL:https://touren-termine.adfc.de/radveranstaltung/164585-feierabendtour
END:VEVENT
END:VCALENDAR
