BEGIN:VCALENDAR
PRODID:-//github.com/rianjs/ical.net//NONSGML ical.net 4.0//EN
VERSION:2.0
BEGIN:VEVENT
DESCRIPTION:In gemütlicher Runde plaudern Radfahrbegeisterte über Touren\,
  Technik\, Verkehr usw.. Gäste sind herzlich eingeladen.\nhttps://touren-
 termine.adfc.de/radveranstaltung/171596-monatliches-treffen-3-dez-thaers-
 wirtshaus
DTEND:20251203T203000Z
DTSTAMP:20260421T184644Z
DTSTART:20251203T173000Z
LOCATION:Thaerplatz 1\, 29221 Celle
SEQUENCE:0
SUMMARY:Monatliches Treffen\, 3. Dez. (Thaers Wirtshaus)
UID:7719ae1b-73fb-4c9e-9393-5d37c1d33439
URL:https://touren-termine.adfc.de/radveranstaltung/171596-monatliches-tre
 ffen-3-dez-thaers-wirtshaus
END:VEVENT
END:VCALENDAR
