BEGIN:VCALENDAR
PRODID:-//github.com/rianjs/ical.net//NONSGML ical.net 4.0//EN
VERSION:2.0
BEGIN:VEVENT
DESCRIPTION:Du lebst in Neukölln und möchtest dich für ein menschengerecht
 es\, klimagerechtes und fahrradfreundliches Neukölln einsetzen?\nDann kom
 m dazu!\nhttps://touren-termine.adfc.de/radveranstaltung/198391-treffen-d
 er-stadtteilgruppe-neukolln
DTEND:20260504T190000Z
DTSTAMP:20260424T202114Z
DTSTART:20260504T170000Z
LOCATION:Restaurant Alte Welt\, Lucy-Lameck-Straße 44\, 12049 Berlin
SEQUENCE:0
SUMMARY:Treffen der Stadtteilgruppe Neukölln
UID:d4c6649d-a05f-455c-96eb-986c974520ba
URL:https://touren-termine.adfc.de/radveranstaltung/198391-treffen-der-sta
 dtteilgruppe-neukolln
END:VEVENT
END:VCALENDAR
