BEGIN:VCALENDAR
PRODID:-//github.com/rianjs/ical.net//NONSGML ical.net 4.0//EN
VERSION:2.0
BEGIN:VEVENT
DESCRIPTION:Dienstags & Donnerstags zwischen 18:00 und 20:00 Uhr kann dort
  jeder\, sein Fahrrad eigenverantwortlich selbst reparieren - wenn nötig 
 unter Anleitung oder Mithilfe unsere Werkstattteams\nhttps://touren-termi
 ne.adfc.de/radveranstaltung/175971-selbsthilfewerkstatt-ist-geoffnet
DTEND:20260507T180000Z
DTSTAMP:20260424T120519Z
DTSTART:20260507T160000Z
LOCATION:Weinweg 2\, 93049 Regensburg
SEQUENCE:0
SUMMARY:Selbsthilfewerkstatt ist geöffnet
UID:ae1c5f14-9cc8-424e-a6a2-246e0c19c378
URL:https://touren-termine.adfc.de/radveranstaltung/175971-selbsthilfewerk
 statt-ist-geoffnet
END:VEVENT
END:VCALENDAR
