BEGIN:VCALENDAR
PRODID:-//github.com/rianjs/ical.net//NONSGML ical.net 4.0//EN
VERSION:2.0
BEGIN:VEVENT
DESCRIPTION:Mehr Sicherheit für den Radverkehr durch StVO konforme Seitena
 bstände beim Überholen durch Kraftfahrzeuge\nhttps://touren-termine.adfc.
 de/radveranstaltung/84824-projektgruppe-openbikesensor
DTEND:20230612T180000Z
DTSTAMP:20260420T231256Z
DTSTART:20230612T163000Z
LOCATION:Koppel 34-36\, 20099 Hamburg
SEQUENCE:0
SUMMARY:Projektgruppe OpenBikeSensor
UID:2dda25df-c129-40c5-8f5d-aa2b6f66a66c
URL:https://touren-termine.adfc.de/radveranstaltung/84824-projektgruppe-op
 enbikesensor
END:VEVENT
END:VCALENDAR
