BEGIN:VCALENDAR
PRODID:-//github.com/rianjs/ical.net//NONSGML ical.net 4.0//EN
VERSION:2.0
BEGIN:VEVENT
DESCRIPTION:Verschiedene Geschwindigkeitsgruppen: Pättkes-Tour (15-18 km/h
 )\, Flotte Tour (18-21 km/h)\, Schnelle Tour (21-23 km/h).\nZiel und Rout
 e werden beim Start bekannt gegeben.\nhttps://touren-termine.adfc.de/radv
 eranstaltung/112416-feierabendtour-rund-um-coesfeld-oktober
DTEND:20241028T170000Z
DTSTAMP:20260419T231822Z
DTSTART:20241028T150000Z
LOCATION:Marktplatz\, 48653 Coesfeld
SEQUENCE:0
SUMMARY:Feierabendtour rund um Coesfeld: Oktober
UID:927850f5-efb7-4854-a8a4-65a4b52682d5
URL:https://touren-termine.adfc.de/radveranstaltung/112416-feierabendtour-
 rund-um-coesfeld-oktober
END:VEVENT
END:VCALENDAR
