BEGIN:VCALENDAR
PRODID:-//github.com/rianjs/ical.net//NONSGML ical.net 4.0//EN
VERSION:2.0
BEGIN:VEVENT
DESCRIPTION:Das Ziel der Tour wird zu Beginn bekanntgegeben. Anschließend 
 Gelegenheit zur gemeinsamen Einkehr.\nhttps://touren-termine.adfc.de/radv
 eranstaltung/184593-feierabendtour
DTEND:20260417T180000Z
DTSTAMP:20260421T101108Z
DTSTART:20260417T160000Z
LOCATION:Hoher Rain 27\, kath. Kirche Rheidt\, 53859 Niederkassel
SEQUENCE:0
SUMMARY:Feierabendtour
UID:baca38f4-2e09-4fce-9bb4-b71bd7881267
URL:https://touren-termine.adfc.de/radveranstaltung/184593-feierabendtour
END:VEVENT
END:VCALENDAR
