BEGIN:VCALENDAR
PRODID:-//github.com/rianjs/ical.net//NONSGML ical.net 4.0//EN
VERSION:2.0
BEGIN:VEVENT
DESCRIPTION:Wir fahren in Fahrgemeinschaften ins Alpenland. Das Ziel wird 
 bei der Anmeldung bekannt gegeben. Im Voralpenland und im 5 Seengebiet we
 rden ebenso Touren angeboten.\nhttps://touren-termine.adfc.de/radveransta
 ltung/190616-mtbbergtour-nach-wahl
DTEND:20261217T060000Z
DTSTAMP:20260425T150452Z
DTSTART:20260423T060000Z
LOCATION:Carolinenstraße 1a\, 82319 Starnberg
SEQUENCE:0
SUMMARY:MTB-Bergtour nach Wahl
UID:52ee6e63-c3b6-411d-82ab-254860a37f6f
URL:https://touren-termine.adfc.de/radveranstaltung/190616-mtbbergtour-nac
 h-wahl
END:VEVENT
END:VCALENDAR
